BEGIN:VCALENDAR
VERSION:2.0
PRODID:-//www.worb.ch//NONSGML kigkonsult.se iCalcreator 2.22//
CALSCALE:GREGORIAN
METHOD:PUBLISH
X-WR-TIMEZONE:Europe/Berlin
BEGIN:VEVENT
UID:20260420T180226CEST-4879UUEEmx@www.worb.ch
DTSTAMP:20260420T160226Z
DESCRIPTION:Klicken Sie auf den folgenden Link\, um weitere Informationen z
 ur Veranstaltung zu erhalten:\nhttp://www.worb.ch/de/veranstaltungen/detai
 l/detail.php?i=872
DTSTART:20260424T193000
DTEND:20260424T210000
LOCATION:Magnolia
SUMMARY:Magnolia
END:VEVENT
END:VCALENDAR
