BEGIN:VCALENDAR
VERSION:2.0
PRODID:-//www.worb.ch//NONSGML kigkonsult.se iCalcreator 2.22//
CALSCALE:GREGORIAN
METHOD:PUBLISH
X-WR-TIMEZONE:Europe/Berlin
BEGIN:VEVENT
UID:20260422T150036CEST-47471Udzwi@www.worb.ch
DTSTAMP:20260422T130036Z
DESCRIPTION:Klicken Sie auf den folgenden Link\, um weitere Informationen z
 ur Veranstaltung zu erhalten:\nhttp://www.worb.ch/de/veranstaltungen/detai
 l/detail.php?i=889
DTSTART:20260429T000000
LOCATION:eliPT Studio für Yoga und Pilates
SUMMARY:Feldenkrais weekly 'Sitzen neu entdecken' mittwochs 19:45 - 20.45 U
 hr
END:VEVENT
END:VCALENDAR
